BEGIN:VCALENDAR
VERSION:2.0
PRODID:-//Green Edventures Eco Tours &amp; Expeditions - ECPv6.15.20//NONSGML v1.0//EN
CALSCALE:GREGORIAN
METHOD:PUBLISH
X-WR-CALNAME:Green Edventures Eco Tours &amp; Expeditions
X-ORIGINAL-URL:https://greenedventures.com
X-WR-CALDESC:Events for Green Edventures Eco Tours &amp; Expeditions
REFRESH-INTERVAL;VALUE=DURATION:PT1H
X-Robots-Tag:noindex
X-PUBLISHED-TTL:PT1H
BEGIN:VTIMEZONE
TZID:America/Chicago
BEGIN:DAYLIGHT
TZOFFSETFROM:-0600
TZOFFSETTO:-0500
TZNAME:CDT
DTSTART:20250309T080000
END:DAYLIGHT
BEGIN:STANDARD
TZOFFSETFROM:-0500
TZOFFSETTO:-0600
TZNAME:CST
DTSTART:20251102T070000
END:STANDARD
BEGIN:DAYLIGHT
TZOFFSETFROM:-0600
TZOFFSETTO:-0500
TZNAME:CDT
DTSTART:20260308T080000
END:DAYLIGHT
BEGIN:STANDARD
TZOFFSETFROM:-0500
TZOFFSETTO:-0600
TZNAME:CST
DTSTART:20261101T070000
END:STANDARD
BEGIN:DAYLIGHT
TZOFFSETFROM:-0600
TZOFFSETTO:-0500
TZNAME:CDT
DTSTART:20270314T080000
END:DAYLIGHT
BEGIN:STANDARD
TZOFFSETFROM:-0500
TZOFFSETTO:-0600
TZNAME:CST
DTSTART:20271107T070000
END:STANDARD
END:VTIMEZONE
BEGIN:VEVENT
DTSTART;VALUE=DATE:20260425
DTEND;VALUE=DATE:20260507
DTSTAMP:20260421T160310
CREATED:20241203T074230Z
LAST-MODIFIED:20250924T194004Z
UID:10000092-1777075200-1778111999@greenedventures.com
SUMMARY:Uganda Women’s Gorilla Trekking + Chimpanzees 2026
DESCRIPTION:
URL:https://greenedventures.com/event/uganda-womens-gorilla-trekking-chimpanzees-2/
LOCATION:Uganda\, Africa
CATEGORIES:Travel Adventures for Women
ATTACH;FMTTYPE=image/jpeg:https://greenedventures.com/wp-content/uploads/2024/06/Uganda-Africa-Gorilla-Trekking-in-Bwindi-Forest.jpg
GEO:1.373333;32.290275
END:VEVENT
BEGIN:VEVENT
DTSTART;VALUE=DATE:20260913
DTEND;VALUE=DATE:20260925
DTSTAMP:20260421T160310
CREATED:20251222T170850Z
LAST-MODIFIED:20251222T170850Z
UID:10000145-1789257600-1790294399@greenedventures.com
SUMMARY:Women's Uganda Mountain Gorillas + Chimpanzee Trekking 2026
DESCRIPTION:
URL:https://greenedventures.com/event/womens-uganda-mountain-gorillas-chimpanzee-trekking-2026/
LOCATION:Uganda\, Africa
CATEGORIES:Travel Adventures for Women
ATTACH;FMTTYPE=image/jpeg:https://greenedventures.com/wp-content/uploads/2024/06/Uganda-Africa-Gorilla-Trekking-in-Bwindi-Forest.jpg
GEO:1.373333;32.290275
END:VEVENT
END:VCALENDAR